BEGIN:VCALENDAR
VERSION:2.0
PRODID:-//wp-events-plugin.com//7.2.3.1//EN
BEGIN:VEVENT
UID:13@bristolvanguard.uk
DTSTART:20241109T090000Z
DTEND:20241109T190000Z
DTSTAMP:20241006T190758Z
URL:https://bristolvanguard.uk/events/tempest-of-war-2024/
SUMMARY:Tempest of War 2024
DESCRIPTION:Tempest is back! 3 games in a day @ 1500pts. Custom missions fo
 r a full day of fun and cursing the TO! Last year the Tempest of War event
  was carefully watched over by the Chaos god Tzeentch\, this year you can 
 expect an equal amount of randomness and fun for all your games. This year
 \, you can expect a few “interesting twists” to the missions. Mission 
 Packs are all custom and will be provided on the day.\n\nEvent pack\n\nTic
 kets
ATTACH;FMTTYPE=image/jpeg:https://bristolvanguard.uk/wp-content/uploads/20
 24/09/Tempest-2024-DISCORD.png
CATEGORIES:Warhammer 40k
LOCATION:Bristol Independent Gaming\, 16 Cater Road\, Bishopsworth\, Bristo
 l\, BS13 7TW\, United Kingdom
GEO:51.415495;-2.60981
X-APPLE-STRUCTURED-LOCATION;VALUE=URI;X-ADDRESS=16 Cater Road\, Bishopswort
 h\, Bristol\, BS13 7TW\, United Kingdom;X-APPLE-RADIUS=100;X-TITLE=Bristol
  Independent Gaming:geo:51.415495,-2.60981
END:VEVENT
END:VCALENDAR