BEGIN:VCALENDAR
VERSION:2.0
PRODID:-//wp-events-plugin.com//7.2.3.1//EN
BEGIN:VEVENT
UID:29@bristolvanguard.uk
DTSTART:20260627T093000Z
DTEND:20260627T180000Z
DTSTAMP:20260423T225735Z
URL:https://bristolvanguard.uk/events/voidwar-2026-a-boarding-action-event
 /
SUMMARY:Voidwar 2026 - A Boarding Action Event
DESCRIPTION:Welcome to Bristol Vanguard’s Voidwar\, A Boarding Action nar
 rative event\, a follow on from our 2025 Boarding Action event and also Va
 nguards other Narrative events\n\nThe event will be made up of 5\, 1v1 boa
 rding action missions and 1 special secret ending mission. For the narrati
 ve portion you will be assigned to teams together pool your resources to i
 nfluence the outcome of a branching narrative across the weekend.\n\nEvent
  Pack\n\nTickets\n\n&nbsp\;
ATTACH;FMTTYPE=image/jpeg:https://bristolvanguard.uk/wp-content/uploads/20
 26/04/Voidwar-2026.png
CATEGORIES:Warhammer 40k
END:VEVENT
END:VCALENDAR